BEGIN:VCALENDAR
VERSION:2.0
PRODID:-//hotelshowsaudi.bitkit.dk//NONSGML Hotel & Hospitality Expo Saudi Arabia//EN
METHOD:REQUEST
BEGIN:VEVENT
UID:20260423T095609-1403764431-calendar_event
DTSTAMP:20260423T095609Z
DTSTART:20230910T160000
DTEND:20230912T220000
LOCATION:Riyadh Front Exhibition & Conference Center (RFECC)
SUMMARY:Hotel & Hospitality Expo Saudi Arabia
DESCRIPTION:10 - 12 SEPTEMBER 2023 | RICEC, Riyadh | The Hotel & Hospitality Expo Saudi Arabia is where the Kingdom’s most influential leaders in the industry reunites to trade, network and share bold ideas.
BEGIN:VALARM
TRIGGER:PT1W
ACTION:DISPLAY
DESCRIPTION:Reminder
END:VALARM
END:VEVENT
END:VCALENDAR
